BEGIN:VCALENDAR
VERSION:2.0
PRODID:-//hacksw/handcal//NONSGML v1.0//EN
BEGIN:VEVENT
SUMMARY:Entrainement Seniors
UID:cbf5aeca-0817-4c1e-b799-3f139e723cd7
DTSTART:20260402T170000Z
DTEND:20260402T183000Z
LOCATION:Stade de Sainte-Marie Stade Municipal 25113 sainte-marie
CATEGORIES:Entrainement
STATUS:
DESCRIPTION:<p style="text-align:center;"><span
 style="font-size:20px;"><u><strong>Jeudi 02 avril
 2026</strong></u></span></p>
 
 <p style="text-align:center;"><span
 style="font-size:20px;"><u><strong>Terrain de
 Sainte-Marie</strong></u></span></p>
 
 <p
 style="text-align:center;"><span
 style="font-size:20px;"><u><strong>Entrainement Seniors a
 19h00</strong></u></span></p>
URL;VALUE=URI:https://aspsm.sportsregions.fr/evenements/2026/04/02/entrainement-seniors-2436728
END:VEVENT
END:VCALENDAR
